BEGIN:VCALENDAR
VERSION:2.0
PRODID:-//Volt Europa//Events//EN
CALSCALE:GREGORIAN
METHOD:PUBLISH
BEGIN:VEVENT
UID:vrouwen-themadagen-2-1737201600@voltnederland.org
DTSTAMP:20260423T102048Z
DTSTART;TZID=Europe/Amsterdam:20250118T130000
DTEND;TZID=Europe/Amsterdam:20250118T170000
SUMMARY:De rol van je gender - themadag 2
DESCRIPTION:Wie: Iedereen Wat: themabijeenkomst over de rol van je gender i
 n de samenleving en politiek Waar: Wijkpunt de Heurne Enschede Wanneer:  1
 8 jan van 13:00 tot 17:00  Mannen\, vrouwen of divers\, we zijn allemaal me
 nsen. Maar waarom is de wereld zoveel meer ingericht op de man? Tijd voor d
 e rest om ook de vleugels uit te slaan! Samen als mensheid\, met onze krach
 ten gebundeld\, komen we verder. Kom naar onze themabijeenkomsten en praat 
 mee over genderverschillen in de samenleving en de politiek. De bij
LOCATION:Enschede\, wijkcentrum de Heurne\, de Heurne 32
URL:https://voltnederland.org/agenda/vrouwen-themadagen-2
END:VEVENT
END:VCALENDAR
