BEGIN:VCALENDAR
VERSION:2.0
PRODID:-//Volt Europa//Events//EN
CALSCALE:GREGORIAN
METHOD:PUBLISH
BEGIN:VEVENT
UID:vrouwen-in-de-gemeenteraad-1744912800@voltnederland.org
DTSTAMP:20260423T101946Z
DTSTART;TZID=Europe/Amsterdam:20250417T200000
DTEND;TZID=Europe/Amsterdam:20250417T210000
SUMMARY:Vrouwen in de gemeenteraad
DESCRIPTION:Vrouwen van Volt houd een online bijeenkomst voor vrouwen die n
 adenken over de gemeenteraad. Wil jij ook meer weten en horen hoe andere Vo
 lt vrouwen erover denken? Sluit dan online aan.
LOCATION:Online
URL:https://voltnederland.org/agenda/vrouwen-in-de-gemeenteraad
END:VEVENT
END:VCALENDAR
