BEGIN:VCALENDAR
VERSION:2.0
PRODID:-//Volt Europa//Events//EN
CALSCALE:GREGORIAN
METHOD:PUBLISH
BEGIN:VEVENT
UID:vredige-manifestatie-voor-oekraine-1708774200@voltnederland.org
DTSTAMP:20260423T143606Z
DTSTART;TZID=Europe/Amsterdam:20240224T123000
DTEND;TZID=Europe/Amsterdam:20240224T160000
SUMMARY:Vredige manifestatie voor Oekraïne
DESCRIPTION:Het is inmiddels twee jaar geleden dat Putin besloot Oekraïne 
 binnen te vallen. Daarmee zorgde hij eigenhandig voor een oorlog op Europee
 s grondgebied. Tijdens de manifestatie zullen we de nagedachtenis eren van 
 iedereen die slachtoffer is van deze oorlog ter bescherming van Oekraïne e
 n Europa.  Op het Museumplein verzamelen we voor een mars\, die gelopen wor
 dt door het centrum van Amsterdam naar De Dam. Om 14.00 uur zullen op De Da
 m medewerkers van de diverse ambassades\, internationale organisat
LOCATION:Museumplein\, Amsterdam
URL:https://voltnederland.org/agenda/vredige-manifestatie-voor-oekraine
END:VEVENT
END:VCALENDAR
