BEGIN:VCALENDAR
VERSION:2.0
PRODID:-//Volt Europa//Events//EN
CALSCALE:GREGORIAN
METHOD:PUBLISH
BEGIN:VEVENT
UID:vragenuurtje-gemeenteraadsverkiezingen-2026-maart-1741717800@voltnederl
 and.org
DTSTAMP:20260423T114246Z
DTSTART;TZID=Europe/Amsterdam:20250311T193000
DTEND;TZID=Europe/Amsterdam:20250311T203000
SUMMARY:Vragenuurtje - Gemeenteraadsverkiezingen 2026 (maart)
DESCRIPTION:De voorbereidingen voor de GRV 2026 zijn in volle gang! Binnen 
 de afdelingen werken besturen\, fracties en kandidatencommissies hard aan d
 e plannen. Daarom organiseren we op 11 maart om 19:30 een online vragenuurt
 je. Dit is hét moment om al jouw vragen te stellen en meer te horen over h
 et proces. Details: Wie: Alle Volt-leden met vragen over de GRV Wanneer: 11
  maart om 19:30 Waar: Online via Google Meet ( https://meet.google.com/zae-
 txjb-qwn ) Voor algemene informatie kun je terecht op de special
LOCATION:Online
URL:https://voltnederland.org/agenda/vragenuurtje-gemeenteraadsverkiezingen
 -2026-maart
END:VEVENT
END:VCALENDAR
