BEGIN:VCALENDAR
VERSION:2.0
PRODID:-//Volt Europa//Events//EN
CALSCALE:GREGORIAN
METHOD:PUBLISH
BEGIN:VEVENT
UID:vragenuurtje-gemeenteraadsverkiezingen-2026-januari-1736879400@voltnede
 rland.org
DTSTAMP:20260422T053537Z
DTSTART;TZID=Europe/Amsterdam:20250114T193000
DTEND;TZID=Europe/Amsterdam:20250114T203000
SUMMARY:Vragenuurtje - Gemeenteraadsverkiezingen 2026 (januari)
DESCRIPTION:De voorbereidingen voor de GRV 2026 zijn in volle gang! Binnen 
 de afdelingen werken besturen\, fracties en kandidatencommissies hard aan d
 e plannen. Daarom organiseren we op 14 januari om 19:30 een online vragenuu
 rtje. Dit is hét moment om al jouw vragen te stellen en meer te horen over
  het proces. Details: Wie: Alle Volt-leden met vragen over de GRV Wanneer: 
 14 januari om 19:30 Waar: Online via Google Meet ( https://meet.google.com/
 zae-txjb-qwn ) Voor algemene informatie kun je terecht op de spe
LOCATION:Online
URL:https://voltnederland.org/agenda/vragenuurtje-gemeenteraadsverkiezingen
 -2026-januari
END:VEVENT
END:VCALENDAR
