BEGIN:VCALENDAR
VERSION:2.0
PRODID:-//Volt Europa//Events//EN
CALSCALE:GREGORIAN
METHOD:PUBLISH
BEGIN:VEVENT
UID:vragenuurtje-gemeenteraadsverkiezingen-2026-februari-1739298600@voltned
 erland.org
DTSTAMP:20260423T114416Z
DTSTART;TZID=Europe/Amsterdam:20250211T193000
DTEND;TZID=Europe/Amsterdam:20250211T203000
SUMMARY:Vragenuurtje - Gemeenteraadsverkiezingen 2026 (februari)
DESCRIPTION:De voorbereidingen voor de GRV 2026 zijn in volle gang! Binnen 
 de afdelingen werken besturen\, fracties en kandidatencommissies hard aan d
 e plannen. Daarom organiseren we op 11 februari om 19:30 een online vragenu
 urtje. Dit is hét moment om al jouw vragen te stellen en meer te horen ove
 r het proces. Details: Wie: Alle Volt-leden met vragen over de GRV Wanneer:
  11 februari om 19:30 Waar: Online via Google Meet ( https://meet.google.co
 m/zae-txjb-qwn ) Voor algemene informatie kun je terecht op de s
LOCATION:Online
URL:https://voltnederland.org/agenda/vragenuurtje-gemeenteraadsverkiezingen
 -2026-februari
END:VEVENT
END:VCALENDAR
