BEGIN:VCALENDAR
VERSION:2.0
PRODID:-//Volt Europa//Events//EN
CALSCALE:GREGORIAN
METHOD:PUBLISH
BEGIN:VEVENT
UID:vragenuurtje-gemeenteraadsverkiezingen-2026-april-1744133400@voltnederl
 and.org
DTSTAMP:20260423T131449Z
DTSTART;TZID=Europe/Amsterdam:20250408T193000
DTEND;TZID=Europe/Amsterdam:20250408T203000
SUMMARY:Vragenuurtje - Gemeenteraadsverkiezingen 2026 (april)
DESCRIPTION:De voorbereidingen voor de GRV 2026 zijn in volle gang! Binnen 
 de afdelingen werken besturen\, fracties en kandidatencommissies hard aan d
 e plannen. Daarom organiseren we op 8 april om 19:30 een online vragenuurtj
 e. Dit is hét moment om al jouw vragen te stellen en meer te horen over he
 t proces. Details: Wie: Alle Volt-leden met vragen over de GRV Wanneer: 8 a
 pril om 19:30 Waar: Online via Google Meet ( https://meet.google.com/zae-tx
 jb-qwn ) Voor algemene informatie kun je terecht op de speciale 
LOCATION:Online
URL:https://voltnederland.org/agenda/vragenuurtje-gemeenteraadsverkiezingen
 -2026-april
END:VEVENT
END:VCALENDAR
