BEGIN:VCALENDAR
VERSION:2.0
PRODID:-//Volt Europa//Events//EN
CALSCALE:GREGORIAN
METHOD:PUBLISH
BEGIN:VEVENT
UID:vragensessie-1-hoofdlijnen-van-beleid-1-1704304800@voltnederland.org
DTSTAMP:20260423T114106Z
DTSTART;TZID=Europe/Amsterdam:20240103T190000
DTEND;TZID=Europe/Amsterdam:20240103T203000
SUMMARY:Vragensessie 2: Hoofdlijnen van beleid
DESCRIPTION:Tijdens deze online Vragensessie kun je in contact komen met de
  schrijvers van de Hoofdlijnen van beleid en kun je vragen stellen over de 
 inhoud\, de totstandkoming en de status van het document en kun je sparren 
 over het indienen van eventuele wijzigingen aan de tekst (amendementen).  
 Vind  hier  de link naar de meeting.  Het officiële wijzigingsproces volgt
  op 15 december via de nieuwsbrief aan alle leden. NB: De sessie wordt afge
 sloten wanneer er na 19:15u geen deelnemers meer zijn.
LOCATION:Online
URL:https://voltnederland.org/agenda/vragensessie-1-hoofdlijnen-van-beleid-
 1
END:VEVENT
END:VCALENDAR
