BEGIN:VCALENDAR
VERSION:2.0
PRODID:-//Volt Europa//Events//EN
CALSCALE:GREGORIAN
METHOD:PUBLISH
BEGIN:VEVENT
UID:vragen-over-de-campagne-evaluatie-1768330800@voltnederland.org
DTSTAMP:20260423T211058Z
DTSTART;TZID=Europe/Amsterdam:20260113T200000
DTEND;TZID=Europe/Amsterdam:20260113T210000
SUMMARY:Vragen over de campagne evaluatie?
DESCRIPTION:Vragen over de campagne evaluatie? Volt voert momenteel een eva
 luatie uit van de campagne voor de Tweede Kamerverkiezingen. In dit proces 
 hebben we gesprekken gevoerd met leden\, feedback verzameld en gesproken me
 t experts. Op basis hiervan wordt er nu een evaluatierapport geschreven\, d
 ie we 17 januari willen delen. Tijdens het online inloopuurtje op 13 januar
 i beantwoorden we jullie vragen over het evaluatieproces. 13 januari\, 20.0
 0–21.00 Link naar de Meet  https://meet.google.com/nhj-hndi-bsm H
LOCATION:Online
URL:https://voltnederland.org/agenda/vragen-over-de-campagne-evaluatie
END:VEVENT
END:VCALENDAR
