BEGIN:VCALENDAR
VERSION:2.0
PRODID:-//Volt Europa//Events//EN
CALSCALE:GREGORIAN
METHOD:PUBLISH
BEGIN:VEVENT
UID:voorstelmoment-kandidaten-tweede-kamer-1755190800@voltnederland.org
DTSTAMP:20260423T114441Z
DTSTART;TZID=Europe/Amsterdam:20250814T190000
DTEND;TZID=Europe/Amsterdam:20250814T213000
SUMMARY:Voorstelmoment kandidaten Tweede Kamer
DESCRIPTION:Op donderdagavond 14 augustus presenteren de Tweede Kamerkandid
 aten voor de kieslijst van Volt zich. Tijdens dit voorstelmoment hoor je wi
 e zij zijn en waar zij zich specifiek voor willen inzetten. Je bent van har
 te welkom om dit evenement bij te wonen: fysiek in Den Haag of online via d
 e livestream. Aanmelden kan via  dit formulier. Online volgen? Dat kan via:
    voltnederland.org/live Let op: er is op het partijbureau een beperkt aan
 tal plaatsen beschikbaar\, dus meld je hiervoor op tijd aan. Vo
LOCATION:Volt Partijbureau – Koninginnegracht 7\, 2e verdieping\, Den Haa
 g
URL:https://voltnederland.org/agenda/voorstelmoment-kandidaten-tweede-kamer
END:VEVENT
END:VCALENDAR
