BEGIN:VCALENDAR
VERSION:2.0
PRODID:-//Volt Europa//Events//EN
CALSCALE:GREGORIAN
METHOD:PUBLISH
BEGIN:VEVENT
UID:voorstellen-lijsttrekkers-europees-parlement-1695056400@voltnederland.o
 rg
DTSTAMP:20260423T114049Z
DTSTART;TZID=Europe/Amsterdam:20230918T190000
DTEND;TZID=Europe/Amsterdam:20230918T210000
SUMMARY:Voorstellen lijsttrekkers Europees Parlement
DESCRIPTION:
LOCATION:7 Koninginnegracht\, Den Haag\, ZH\, 2514 AA\, Netherlands
URL:https://voltnederland.org/agenda/voorstellen-lijsttrekkers-europees-par
 lement
END:VEVENT
END:VCALENDAR
