BEGIN:VCALENDAR
VERSION:2.0
PRODID:-//Volt Europa//Events//EN
CALSCALE:GREGORIAN
METHOD:PUBLISH
BEGIN:VEVENT
UID:voorstellen-aspirant-top-kandidaten-tweede-kamer-1695229200@voltnederla
 nd.org
DTSTAMP:20260423T114538Z
DTSTART;TZID=Europe/Amsterdam:20230920T190000
DTEND;TZID=Europe/Amsterdam:20230920T210000
SUMMARY:Voorstellen aspirant top-kandidaten Tweede Kamer
DESCRIPTION:
LOCATION:7 Koninginnegracht\, Den Haag\, ZH\, 2514 AA\, Netherlands
URL:https://voltnederland.org/agenda/voorstellen-aspirant-top-kandidaten-tw
 eede-kamer
END:VEVENT
END:VCALENDAR
