BEGIN:VCALENDAR
VERSION:2.0
PRODID:-//Volt Europa//Events//EN
CALSCALE:GREGORIAN
METHOD:PUBLISH
BEGIN:VEVENT
UID:voorstellen-aspirant-kandidaten-tweede-kamer-1695315600@voltnederland.o
 rg
DTSTAMP:20260423T212618Z
DTSTART;TZID=Europe/Amsterdam:20230921T190000
DTEND;TZID=Europe/Amsterdam:20230921T210000
SUMMARY:Voorstellen aspirant kandidaten Tweede Kamer
DESCRIPTION:
LOCATION:7 Koninginnegracht\, Den Haag\, ZH\, 2514 AA\, Netherlands
URL:https://voltnederland.org/agenda/voorstellen-aspirant-kandidaten-tweede
 -kamer
END:VEVENT
END:VCALENDAR
