BEGIN:VCALENDAR
VERSION:2.0
PRODID:-//Volt Europa//Events//EN
CALSCALE:GREGORIAN
METHOD:PUBLISH
BEGIN:VEVENT
UID:voltenne-thema-avond-brussel-1731004200@voltnederland.org
DTSTAMP:20260423T102132Z
DTSTART;TZID=Europe/Amsterdam:20241107T193000
DTEND;TZID=Europe/Amsterdam:20241107T220000
SUMMARY:Voltenne thema avond: Brussel
DESCRIPTION:Onze kersverse Europarlementariër  Reinier van Lanschot  komt 
 naar Den Bosch!  Hij gaat ons over zijn ervaringen van de eerste drie maan
 den in het Europees Parlement vertellen. Maar om te begrijpen waar hij het 
 over heeft\, moet je wel eerst weten hoe de Europese Unie is ontstaan\, hoe
  het nu georganiseerd is en het belangrijkste: wat ze doen (en wat niet) Om
  je kennis daarover (weer) op peil te brengen\, gaan we op 7 november eerst
  een korte ‘Opfriscursus EU’ geven. Vanwege de verwachte belangstel
LOCATION:De Knillispoort\, Korte Waterstraat 15\, 5211 NR ’s-Hertogenbosc
 h
URL:https://voltnederland.org/brabant/agenda/voltenne-thema-avond-brussel
END:VEVENT
END:VCALENDAR
