BEGIN:VCALENDAR
VERSION:2.0
PRODID:-//Volt Europa//Events//EN
CALSCALE:GREGORIAN
METHOD:PUBLISH
BEGIN:VEVENT
UID:voltenne-2024-en-2025-1734633000@voltnederland.org
DTSTAMP:20260423T102052Z
DTSTART;TZID=Europe/Amsterdam:20241219T193000
DTEND;TZID=Europe/Amsterdam:20241219T220000
SUMMARY:Gemeenteraadsverkiezingen 2026 - Voltenne
DESCRIPTION:19 december is de eerste informatieavond over de gemeenteraadsv
 erkiezingen 2026 (GRV26). Vroeg\, hoor ik je denken… Er is heel veel erg 
 leuk werk te doen. We willen niet alleen in Den Bosch verkiezingen\, waar w
 e een mooie groei willen bereiken\, we willen ook in andere gemeentes aan d
 e slag. Er is heel veel te doen. Leontien van der Vlist komt langs om te ve
 rtellen hoe we als Brabant ons willen gaan voorbereiden op deze GRV.  Naas
 t deze nuttige informatie gaan we ook het jaar afsluiten met een dra
LOCATION:Knillispoort te Den Bosch
URL:https://voltnederland.org/brabant/agenda/voltenne-2024-en-2025
END:VEVENT
END:VCALENDAR
