BEGIN:VCALENDAR
VERSION:2.0
PRODID:-//Volt Europa//Events//EN
CALSCALE:GREGORIAN
METHOD:PUBLISH
BEGIN:VEVENT
UID:volt-zuid-holland-1695835800@voltnederland.org
DTSTAMP:20260423T101912Z
DTSTART;TZID=Europe/Amsterdam:20230927T193000
DTEND;TZID=Europe/Amsterdam:20230927T230000
SUMMARY:Volt Zuid-Holland
DESCRIPTION:Woensdag 27 september. Noteer die dag. Dan komen we samen met V
 olters uit heel Zuid-Holland voor de start van de campagne voor de Tweede K
 amer Verkiezingen! Waar? In het prachtige Leiden. Wat gaan we doen? Op het 
 landelijke congres worden het verkiezingsprogramma en kandidatenlijst offic
 ieel ingestemd. Dat betekent dat we de campagnetijd ingaan. Want vanaf dat 
 moment hebben we acht weken om het Volt verhaal zo breed mogelijk te verspr
 eiden. Daar hebben we ook jou bij nodig. Want iedere Volter he
LOCATION:Nieuwe Rijn 19\, 2312 JC Leiden (Einstein Leiden)
URL:https://voltnederland.org/agenda/volt-zuid-holland
END:VEVENT
END:VCALENDAR
