BEGIN:VCALENDAR
VERSION:2.0
PRODID:-//Volt Europa//Events//EN
CALSCALE:GREGORIAN
METHOD:PUBLISH
BEGIN:VEVENT
UID:volt-werkt-samen-met-groene-coalitie-aan-transitie-naar-een-circulaire-
 economie-1710334800@voltnederland.org
DTSTAMP:20260423T114550Z
DTSTART;TZID=Europe/Amsterdam:20240313T140000
DTEND;TZID=Europe/Amsterdam:20240313T170000
SUMMARY:VOLT werkt samen met groene coalitie aan Transitie naar een Circula
 ire Economie
DESCRIPTION:Volt organiseert met (GroenLinks/PvdA/D66 en PvdD) een Inspirat
 iemiddag over Circulaire economie. De provincie Utrecht wil een volledig ci
 rculaire economie hebben in 2050. In het provinciehuis wordt door ambtenare
 n en GS hard gewerkt aan een middellange termijnstrategie richting 2030 Doe
 l van deze middag is om een begin te maken met het antwoord op de vraag: we
 lke rol kan provincie Utrecht spelen in de transitie naar de circulaire eco
 nomie? Daarvoor hebben we het volgende programma:  Programma 1
LOCATION:Hof van Cartesius\, Vlampijpstraat 84-94\, 3534 AR\, Utrecht
URL:https://voltnederland.org/agenda/volt-werkt-samen-met-groene-coalitie-a
 an-transitie-naar-een-circulaire-economie
END:VEVENT
END:VCALENDAR
