BEGIN:VCALENDAR
VERSION:2.0
PRODID:-//Volt Europa//Events//EN
CALSCALE:GREGORIAN
METHOD:PUBLISH
BEGIN:VEVENT
UID:volt-violet-nl-beach-party-1719666000@voltnederland.org
DTSTAMP:20260423T144047Z
DTSTART;TZID=Europe/Amsterdam:20240629T150000
DTEND;TZID=Europe/Amsterdam:20240629T200000
SUMMARY:Volt Violet NL - Beach party
DESCRIPTION:Afgelopen jaar heeft iedereen keihard gewerkt aan alle campagne
 s\, en zoals beloofd gaan we dat samen leuk afsluiten! 🥳 Verzamel al je 
 (Volt-)vrienden en kom op zaterdag 29 juni vanaf 15.00 uur naar Beachclub A
 zorra op Scheveningen (weersverwachting 26 graden! ☀). Het eerste hapje e
 n drankje krijg je van ons. En mocht je een slaapplek nodig hebben\, laat h
 et even weten. Dan gaan we kijken wat we voor je kunnen doen!
LOCATION:Strandtent Azorra\, Strand Noord 66\, 2586 ZZ Den Haag
URL:https://voltnederland.org/agenda/volt-violet-nl-beach-party
END:VEVENT
END:VCALENDAR
