BEGIN:VCALENDAR
VERSION:2.0
PRODID:-//Volt Europa//Events//EN
CALSCALE:GREGORIAN
METHOD:PUBLISH
BEGIN:VEVENT
UID:volt-utrecht-voert-campagne-met-volt-bologna-1696766400@voltnederland.o
 rg
DTSTAMP:20260423T143352Z
DTSTART;TZID=Europe/Amsterdam:20231008T140000
DTEND;TZID=Europe/Amsterdam:20231008T160000
SUMMARY:Volt Utrecht voert campagne met Volt Bologna!
DESCRIPTION:🇮🇹💜🇳🇱  campagne voeren met Volt Bologna in Utrec
 ht 7 oktober Volt is een Europese partij. Als afdeling Utrecht willen we da
 arom ook de Europese samenwerking met andere afdelingen opzoeken. Een eerst
 e proef doen we met een bezoek van een delegatie uit Bologna tussen 6 en 8 
 oktober. 📢  Wil je eens een keer campagne voeren op zijn Italiaans?* Zon
 dag 8 oktober gaan we samen campagne voeren. Verzamelen om 14 uur onder het
  bollendak op Utrecht Centraal Station.
LOCATION:Bollendak op Utrecht Centraal Station
URL:https://voltnederland.org/agenda/volt-utrecht-voert-campagne-met-volt-b
 ologna
END:VEVENT
END:VCALENDAR
