BEGIN:VCALENDAR
VERSION:2.0
PRODID:-//Volt Europa//Events//EN
CALSCALE:GREGORIAN
METHOD:PUBLISH
BEGIN:VEVENT
UID:volt-utrecht-meets-volt-bologna-1696680000@voltnederland.org
DTSTAMP:20260423T102051Z
DTSTART;TZID=Europe/Amsterdam:20231007T140000
DTEND;TZID=Europe/Amsterdam:20231007T160000
SUMMARY:Volt Utrecht meets Volt Bologna
DESCRIPTION:🇮🇹💜🇳🇱  Borrelen met Volt Bologna in Utrecht 7 ok
 tober Volt is een Europese partij. Als afdeling Utrecht willen we daarom oo
 k de Europese samenwerking met andere afdelingen opzoeken. Een eerste proef
  doen we met een bezoek van een delegatie uit Bologna tussen 6 en 8 oktober
 .  Waarom Bologna? Omdat Bologna voor een deel met hetzelfde karakter heeft
  als Utrecht. Denk aan een studentenstad met vergelijkbare huisvestings- en
  mobiliteitsvraagstukken. Ook zijn de gemeenten Bologna en Utrecht beide on
 de
LOCATION:Wijkrestaurant Venster\, Berlijnplein 520 in Utrecht (op loopafsta
 nd van station Leidsche Rijn)
URL:https://voltnederland.org/agenda/volt-utrecht-meets-volt-bologna
END:VEVENT
END:VCALENDAR
