BEGIN:VCALENDAR
VERSION:2.0
PRODID:-//Volt Europa//Events//EN
CALSCALE:GREGORIAN
METHOD:PUBLISH
BEGIN:VEVENT
UID:volt-toekomsttour-bustour-2-1700388000@voltnederland.org
DTSTAMP:20260423T102052Z
DTSTART;TZID=Europe/Amsterdam:20231119T110000
DTEND;TZID=Europe/Amsterdam:20231119T203000
SUMMARY:Volt Toekomsttour (bustour)
DESCRIPTION:Het laatste weekend voor de verkiezingen organiseren we de land
 elijke  Volt Toekomsttour . Met de kandidaten voor de Tweede Kamer\, de cam
 pagnekanjers en onze leden trekken we door het land om met mensen in gespre
 k te gaan\, te flyeren en om ons Europese geluid te laten horen.  Er zijn i
 n totaal vijf routes. Via het  bustour schema  zie je welke route door jouw
  regio gaat en hoe laat de bus aankomt.  In het laatste weekend voor de ve
 rkiezingen vertellen wij samen aan Nederland een Europees verhaal
LOCATION:Maastricht\, Venlo\, Eindhoven\, Breda\, Rotterdam\, Delft\, Leide
 n\, Haarlem\, Amsterdam\, Hilversum\, Utrecht
URL:https://voltnederland.org/agenda/volt-toekomsttour-bustour-2
END:VEVENT
END:VCALENDAR
