BEGIN:VCALENDAR
VERSION:2.0
PRODID:-//Volt Europa//Events//EN
CALSCALE:GREGORIAN
METHOD:PUBLISH
BEGIN:VEVENT
UID:volt-there-roundtable-media-freedom-1778079600@voltnederland.org
DTSTAMP:20260423T023135Z
DTSTART;TZID=Europe/Amsterdam:20260506T170000
DTEND;TZID=Europe/Amsterdam:20260506T190000
SUMMARY:Volt There - Roundtable Media Freedom
DESCRIPTION:Nederlands hieronder Protecting Democracy: Press Freedom\, Disi
 nformation\, and the Fight for Truth. In an era of shrinking newsrooms\, al
 gorithmic news feeds\, and coordinated foreign interference\, what does it 
 take to keep journalism free and citizens informed? This roundtable brings 
 together journalists\, experts\, and policymakers from across Europe to tac
 kle one of democracy's most urgent challenges: the future of independent me
 dia.  Hear firsthand from voices on the frontlines in Moldova and Ukr
LOCATION:Hague Humanity Hub\, Fluwelen Burgwal 58\, 2511 CJ Den Haag
URL:https://voltnederland.org/agenda/volt-there-roundtable-media-freedom
END:VEVENT
END:VCALENDAR
