BEGIN:VCALENDAR
VERSION:2.0
PRODID:-//Volt Europa//Events//EN
CALSCALE:GREGORIAN
METHOD:PUBLISH
BEGIN:VEVENT
UID:volt-rotterdam-zhz-community-avond-volt-needs-you-1711479600@voltnederl
 and.org
DTSTAMP:20260423T102133Z
DTSTART;TZID=Europe/Amsterdam:20240326T200000
DTEND;TZID=Europe/Amsterdam:20240326T230000
SUMMARY:Volt Rotterdam-ZHZ Community Avond : Volt needs you!
DESCRIPTION:Volt needs you! Kom naar de inspiratiemarkt en word actief. Heb
  jij ook het gevoel dat je actiever wil worden op politiek gebied\, maar we
 et je niet precies wat dat dan zou moeten zijn? Stap je het liefst op mense
 n af tijdens de komende Europese campagne? Of denk je liever mee over belei
 d? Er zijn allerlei leuke teams binnen Volt waar we jouw talenten goed kunn
 en gebruiken\, en tijdens de regionale community-avond/maandelijkse borrel 
 van 26 maart zullen deze teams zich kort presenteren waarna er v
LOCATION:Polestar Rotterdam\, Meent 92\, 3011 JP\, Rotterdam
URL:https://voltnederland.org/agenda/volt-rotterdam-zhz-community-avond-vol
 t-needs-you
END:VEVENT
END:VCALENDAR
