BEGIN:VCALENDAR
VERSION:2.0
PRODID:-//Volt Europa//Events//EN
CALSCALE:GREGORIAN
METHOD:PUBLISH
BEGIN:VEVENT
UID:volt-rotterdam-verkiezingsnacht-regionaal-1700679600@voltnederland.org
DTSTAMP:20260423T114225Z
DTSTART;TZID=Europe/Amsterdam:20231122T200000
DTEND;TZID=Europe/Amsterdam:20231123T003000
SUMMARY:Volt Rotterdam Verkiezingsnacht (regionaal)
DESCRIPTION:Volt Rotterdam organiseert een lokale verkiezingsnacht zodat me
 er Volters en geïnteresseerden de resultaten samen mee kunnen maken gedure
 nde de avond. Iedereen is welkom hierbij aan te sluiten. De venue is tot 1 
 uur open dus we kunnen zeker tot na 12 blijven.
LOCATION:Cafe Stalles\, Nieuwe Binnenweg 11\, Rotterdam
URL:https://voltnederland.org/agenda/volt-rotterdam-verkiezingsnacht-region
 aal
END:VEVENT
END:VCALENDAR
