BEGIN:VCALENDAR
VERSION:2.0
PRODID:-//Volt Europa//Events//EN
CALSCALE:GREGORIAN
METHOD:PUBLISH
BEGIN:VEVENT
UID:volt-mega-memory-1700132400@voltnederland.org
DTSTAMP:20260423T101918Z
DTSTART;TZID=Europe/Amsterdam:20231116T120000
DTEND;TZID=Europe/Amsterdam:20231116T140000
SUMMARY:Volt Mega Memory
DESCRIPTION:Op donderdag 16 november van 12:00 tot 14:00 spelen we Volt mem
 ory in Enschede op het O&O Plein. Met (kandidaat) Kamerleden roepen we op s
 peelse manier aandacht voor belangrijke thema's van Volt\, zoals Europa\, k
 limaat en bestaanszekerheid. Toekomst\, nu!
LOCATION:O&O Plein in Enschede
URL:https://voltnederland.org/agenda/volt-mega-memory
END:VEVENT
END:VCALENDAR
