BEGIN:VCALENDAR
VERSION:2.0
PRODID:-//Volt Europa//Events//EN
CALSCALE:GREGORIAN
METHOD:PUBLISH
BEGIN:VEVENT
UID:volt-mega-memory-4-1699192800@voltnederland.org
DTSTAMP:20260423T143927Z
DTSTART;TZID=Europe/Amsterdam:20231105T150000
DTEND;TZID=Europe/Amsterdam:20231105T170000
SUMMARY:Volt Mega Memory
DESCRIPTION:Op zondag 5 november van 15:00 tot 17:00 spelen we Volt mega me
 mory in Breda in het Valkenbergpark. Op speelse wijze vragen we aandacht vo
 or belangrijke thema's van Volt\, zoals Europa\, klimaat en bestaanszekerhe
 id. Sluit aan en speel mee. Toekomst\, nu!
LOCATION:Valkenbergpark\, Breda
URL:https://voltnederland.org/agenda/volt-mega-memory-4
END:VEVENT
END:VCALENDAR
