BEGIN:VCALENDAR
VERSION:2.0
PRODID:-//Volt Europa//Events//EN
CALSCALE:GREGORIAN
METHOD:PUBLISH
BEGIN:VEVENT
UID:volt-mega-memory-3-1699705800@voltnederland.org
DTSTAMP:20260423T101918Z
DTSTART;TZID=Europe/Amsterdam:20231111T133000
DTEND;TZID=Europe/Amsterdam:20231111T153000
SUMMARY:Volt Mega Memory
DESCRIPTION:Op zaterdag 11 november  spelen we Volt memory in Den Haag en E
 indhoven. Met (kandidaat) Kamerleden roepen we op speelse manier aandacht v
 oor belangrijke thema's van Volt\, zoals Europa\, klimaat en bestaanszekerh
 eid. Toekomst\, nu! In Eindhoven start de memory om 14.00 tot 15.30. In Den
  Haag kun je de mega memory bezoeken van 13.30 tot 15.30.
LOCATION:Eindhoven en Den Haag
URL:https://voltnederland.org/agenda/volt-mega-memory-3
END:VEVENT
END:VCALENDAR
