BEGIN:VCALENDAR
VERSION:2.0
PRODID:-//Volt Europa//Events//EN
CALSCALE:GREGORIAN
METHOD:PUBLISH
BEGIN:VEVENT
UID:volt-meetup-kennemerland-1726162200@voltnederland.org
DTSTAMP:20260423T101921Z
DTSTART;TZID=Europe/Amsterdam:20240912T193000
DTEND;TZID=Europe/Amsterdam:20240912T223000
SUMMARY:Volt-meetup Kennemerland
DESCRIPTION:We kunnen niet wachten om het met jou te hebben over de gemeent
 eraadsverkiezingen 2026 in Haarlem. Welke stappen zijn er nog nodig om mee 
 te doen en hoe gaan we dit met z'n allen bereiken? Dit lijkt nu nog ver weg
 \, maar voor je het weet is het zo ver. Ook hebben we meer leden dan ooit e
 n dat willen we graag vieren met zowel de nieuwe als 'oude' leden. Dit is d
 e ideale gelegenheid om elkaar te leren kennen. Ben jij er volgende week bi
 j?
LOCATION:Ontmoetingscentrum De Schakel\, Pijnboomstraat 17 te Haarlem
URL:https://voltnederland.org/agenda/volt-meetup-kennemerland
END:VEVENT
END:VCALENDAR
