BEGIN:VCALENDAR
VERSION:2.0
PRODID:-//Volt Europa//Events//EN
CALSCALE:GREGORIAN
METHOD:PUBLISH
BEGIN:VEVENT
UID:volt-gaat-de-straat-op-1748084400@voltnederland.org
DTSTAMP:20260423T101922Z
DTSTART;TZID=Europe/Amsterdam:20250524T130000
DTEND;TZID=Europe/Amsterdam:20250524T150000
SUMMARY:Volt gaat DE STRAAT OP!
DESCRIPTION:Op 24 mei gaan we massaal de straat op. We hebben er genoeg van
  dat extreemrechtse angstzaaiers en populisten de politieke agenda bepalen.
  Zij bedreigen wat vanzelfsprekend zou moeten zijn: een betaalbaar huis\, e
 en leefbare wereld\, gelijke rechten voor iedereen en een open democratie. 
 Kortom: onze burgerrechten. Na één jaar van het huidige kabinet is het du
 idelijker dan ooit: extreemrechts is niet geïnteresseerd in echte oplossin
 gen. In plaats daarvan wijzen ze zondebokken aan die er niets mee t
LOCATION:Dam\, Amsterdam
URL:https://voltnederland.org/agenda/volt-gaat-de-straat-op
END:VEVENT
END:VCALENDAR
