BEGIN:VCALENDAR
VERSION:2.0
PRODID:-//Volt Europa//Events//EN
CALSCALE:GREGORIAN
METHOD:PUBLISH
BEGIN:VEVENT
UID:volt-fietstour-voorburg-stompwijk-leidschendam-1760875200@voltnederland
 .org
DTSTAMP:20260423T114311Z
DTSTART;TZID=Europe/Amsterdam:20251019T140000
DTEND;TZID=Europe/Amsterdam:20251019T154500
SUMMARY:Volt fietstour Voorburg - Stompwijk - Leidschendam
DESCRIPTION:Fietstour in het paars langs mooie en drukbezochte plekken in o
 nze gemeente. Kom in het paars en neem fotos onderweg!
LOCATION:Laan van NOI\, Voorburg zijde
URL:https://voltnederland.org/agenda/volt-fietstour-voorburg-stompwijk-leid
 schendam
END:VEVENT
END:VCALENDAR
