BEGIN:VCALENDAR
VERSION:2.0
PRODID:-//Volt Europa//Events//EN
CALSCALE:GREGORIAN
METHOD:PUBLISH
BEGIN:VEVENT
UID:volt-eurovisie-europaparty-1715448600@voltnederland.org
DTSTAMP:20260423T142505Z
DTSTART;TZID=Europe/Amsterdam:20240511T193000
DTEND;TZID=Europe/Amsterdam:20240512T003000
SUMMARY:Volt Eurovisie Europaparty
DESCRIPTION:Kom naar de Volt Europaparty op 11 mei 2024 in Rotterdam! Bekij
 k en beleef samen de finale van het Eurovisie Songfestival. Met de aanschaf
  van toegangstickets ondersteunen we tegelijkertijd de campagne voor de Eur
 opese verkiezingen in juni!
LOCATION:Weena 70\, Rotterdam
URL:https://voltnederland.org/agenda/volt-eurovisie-europaparty
END:VEVENT
END:VCALENDAR
