BEGIN:VCALENDAR
VERSION:2.0
PRODID:-//Volt Europa//Events//EN
CALSCALE:GREGORIAN
METHOD:PUBLISH
BEGIN:VEVENT
UID:volt-europa-ga-in-tirana-1732348800@voltnederland.org
DTSTAMP:20260423T102102Z
DTSTART;TZID=Europe/Amsterdam:20241123T090000
DTEND;TZID=Europe/Amsterdam:20241123T180000
SUMMARY:Volt Europa GA in Tirana
DESCRIPTION:Wherever Volt goes\, success follows. After our GA in Bucharest
 \, Volt Romania gained 7 seats at the local level. Following our Campaign K
 ickoff event in Brussels\, 5 of our members now sit there as Members of the
  European Parliament. Holding our GA in Albania is a testament to our inten
 tion to bring fresh ideas and positive energy into the Balkans’ political
  arena. Albania has been an official candidate for accession to the EU for 
 over 10 years\, yet little progress has been made in the negotiation
LOCATION:Tirana\, Albanie
URL:https://voltnederland.org/agenda/volt-europa-ga-in-tirana
END:VEVENT
END:VCALENDAR
