BEGIN:VCALENDAR
VERSION:2.0
PRODID:-//Volt Europa//Events//EN
CALSCALE:GREGORIAN
METHOD:PUBLISH
BEGIN:VEVENT
UID:volt-enschede-fractie-open-dag-1743247800@voltnederland.org
DTSTAMP:20260423T101947Z
DTSTART;TZID=Europe/Amsterdam:20250329T123000
DTEND;TZID=Europe/Amsterdam:20250329T170000
SUMMARY:Volt Enschede Fractie open dag met Marieke Koekkoek
DESCRIPTION:Wie: Volt leden en geinteresseerden Wat: Fractie open dag met M
 arieke Koekkoek Waar: Gemeentehuis Enschede Wanneer: 29 maart van 12:30 tot
  16:30 Verzamelen om 12:30 buiten bij Melan\, Langestraat 22 in Enschede . 
 Aanstaande zaterdag\, op onze open Fractiedag\, komt Tweede Kamerlid Mariek
 e Koekkoek langs! Ze doet mee met de opening en debatteert mee tijdens de l
 ive fractievergadering\, waarna ze naar het congres van Volt Gelderland ver
 trekt. Ben je nu ook nieuwsgierig? Tijdens deze dag krijg je een u
LOCATION:Enschede\, gemeentehuis
URL:https://voltnederland.org/agenda/volt-enschede-fractie-open-dag
END:VEVENT
END:VCALENDAR
