BEGIN:VCALENDAR
VERSION:2.0
PRODID:-//Volt Europa//Events//EN
CALSCALE:GREGORIAN
METHOD:PUBLISH
BEGIN:VEVENT
UID:volt-discussion-series-digital-democracy-in-action-1714298400@voltneder
 land.org
DTSTAMP:20260423T102047Z
DTSTART;TZID=Europe/Amsterdam:20240428T120000
DTEND;TZID=Europe/Amsterdam:20240428T171500
SUMMARY:Volt Discussion Series: Digital Democracy in Action
DESCRIPTION:English Join the Volt Discussions Series: Digital Democracy in 
 Action As the European Parliament elections approach\, your voice in shapin
 g the digital landscape is more critical than ever: Let's tackle misinforma
 tion and online hate speech\, while safeguarding freedom of expression and 
 privacy. Explore how we can lead globally with digital technologies\, such 
 as AI\, chip technology\, and quantum computing\, while improving cybersecu
 rity and responsible tech use. Contribute to the discussion to make 
LOCATION:Mundo Madou\, Avenue des Arts 7-8\, Brussel
URL:https://voltnederland.org/agenda/volt-discussion-series-digital-democra
 cy-in-action
END:VEVENT
END:VCALENDAR
