BEGIN:VCALENDAR
VERSION:2.0
PRODID:-//Volt Europa//Events//EN
CALSCALE:GREGORIAN
METHOD:PUBLISH
BEGIN:VEVENT
UID:volt-den-bosch-talkshow-grv26-1770314400@voltnederland.org
DTSTAMP:20260423T210921Z
DTSTART;TZID=Europe/Amsterdam:20260205T190000
DTEND;TZID=Europe/Amsterdam:20260205T220000
SUMMARY:Volt Den Bosch Talkshow GRV26
DESCRIPTION:Tijdens de Volt Den Bosch Talkshow op donderdag 5 februari gaan
  we de diepte in. Geen droge presentaties\, maar een dynamisch gesprek over
  de vier pijlers die onze visie voor de stad bepalen: 🌍 Asiel en migrati
 e: Hoe bouwen we aan een humane en realistische opvang in onze gemeente? 
  Duurzaamheid: Op welke manier versnellen we de transitie naar een groen 
 en toekomstbestendig Den Bosch? 🗳️ Nieuwe politiek: Hoe breken we met 
 de oude patronen en maken we de lokale politiek transparanter en toegankel
LOCATION:Veemarktweg 2F 's-Hertogenbosch
URL:https://voltnederland.org/brabant/agenda/volt-den-bosch-talkshow-grv26
END:VEVENT
END:VCALENDAR
