BEGIN:VCALENDAR
VERSION:2.0
PRODID:-//Volt Europa//Events//EN
CALSCALE:GREGORIAN
METHOD:PUBLISH
BEGIN:VEVENT
UID:volt-breda-community-meet-up-1774290600@voltnederland.org
DTSTAMP:20260425T203606Z
DTSTART;TZID=Europe/Amsterdam:20260323T193000
DTEND;TZID=Europe/Amsterdam:20260323T220000
SUMMARY:Volt Breda community meet up
DESCRIPTION:We bespreken de uitslag van de gemeenteraadsverkiezingen en kij
 ken samen vooruit.
LOCATION:Café Parkzicht Breda
URL:https://voltnederland.org/agenda/volt-breda-community-meet-up
END:VEVENT
END:VCALENDAR
