BEGIN:VCALENDAR
VERSION:2.0
PRODID:-//Volt Europa//Events//EN
CALSCALE:GREGORIAN
METHOD:PUBLISH
BEGIN:VEVENT
UID:volt-brabant-congres-13-december-1765627200@voltnederland.org
DTSTAMP:20260423T143158Z
DTSTART;TZID=Europe/Amsterdam:20251213T130000
DTEND;TZID=Europe/Amsterdam:20251213T170000
SUMMARY:Volt Brabant Congres - 13 december
DESCRIPTION:Op zaterdag 13 december 2025 vindt het Brabantse Volt-congres p
 laats. Tijdens dit congres stemmen we over de verkiezingsprogramma’s en d
 e kandidatenlijsten voor de gemeenteraadsverkiezingen in Breda\, Tilburg\, 
 Den Bosch en Eindhoven. De amendeerbare stukken\, waaronder de verkiezingsp
 rogramma's\, zijn te vinden op deze website\, samen met een toelichting op 
 hoe je zelf een amendement kunt indienen. Ook staat de uitgebreide congresa
 genda online. Samen bepalen we de koers richting maart 2026. Bekijk d
LOCATION:Sociaal Cultureel Centrum 'De Stolp' - Rijnstraat 497\, 5215 EJ 's
 -Hertogenbosch
URL:https://voltnederland.org/brabant/agenda/volt-brabant-congres-13-decemb
 er
END:VEVENT
END:VCALENDAR
