BEGIN:VCALENDAR
VERSION:2.0
PRODID:-//Volt Europa//Events//EN
CALSCALE:GREGORIAN
METHOD:PUBLISH
BEGIN:VEVENT
UID:volt-bbq-1755878400@voltnederland.org
DTSTAMP:20260423T101918Z
DTSTART;TZID=Europe/Amsterdam:20250822T180000
DTEND;TZID=Europe/Amsterdam:20250822T223000
SUMMARY:Volt BBQ
DESCRIPTION:Kokkerellen in Eendegat Elke maand zijn we actief met inhoud\, 
 relevantie en discussies. In wisselende samenstelling verdiepen we ons in v
 erschillende onderwerpen en leren we van elkaar om zo de beweging Volt voor
 uit te helpen. Het is erg leuk om steeds weer nieuwe mensen te ontmoeten om
  met elkaar de “wereldproblemen” op te lossen. Net als vorig jaar wille
 n we elkaar ook eens treffen onder het genot van hapje en drankje. We gaan 
 de warme 2e helft van 2025 in omdat we ons moeten voorbereiden op d
LOCATION:Renbaan 2\, Boxtel
URL:https://voltnederland.org/agenda/volt-bbq
END:VEVENT
END:VCALENDAR
