BEGIN:VCALENDAR
VERSION:2.0
PRODID:-//Volt Europa//Events//EN
CALSCALE:GREGORIAN
METHOD:PUBLISH
BEGIN:VEVENT
UID:volt-academy-derde-haagse-vredesconferentie-1742322600@voltnederland.or
 g
DTSTAMP:20260425T203442Z
DTSTART;TZID=Europe/Amsterdam:20250318T193000
DTEND;TZID=Europe/Amsterdam:20250318T220000
SUMMARY:Volt DH Academy: Derde Haagse Vredesconferentie?
DESCRIPTION:ENGLISH BELOW:  Op 18 maart organiseert Volt DH Academy een avo
 nd met Benjamin Duerr\, auteur van  De droom van Den Haag: de Haagse Vredes
 conferenties en het ontstaan van een nieuwe wereldorde . Met de huidige geo
 politieke spanningen en de staat van de wereld is dit onderwerp relevanter 
 dan ooit. In tijden van conflict en onzekerheid is het versterken van inter
 nationale (en Europese) instituties cruciaal om stabiliteit\, vrede en rech
 tvaardigheid te waarborgen. Duerr onderzoekt hoe de vredesconfer
LOCATION:Partijkantoor\, Koninginnegracht 7\, 2514 AA Den Haag
URL:https://voltnederland.org/agenda/volt-academy-derde-haagse-vredesconfer
 entie
END:VEVENT
END:VCALENDAR
