BEGIN:VCALENDAR
VERSION:2.0
PRODID:-//Volt Europa//Events//EN
CALSCALE:GREGORIAN
METHOD:PUBLISH
BEGIN:VEVENT
UID:volt-academy-democratie-van-de-21ste-eeuw-1707417900@voltnederland.org
DTSTAMP:20260423T102132Z
DTSTART;TZID=Europe/Amsterdam:20240208T194500
DTEND;TZID=Europe/Amsterdam:20240208T213000
SUMMARY:Volt Academy - Democratie van de 21ste eeuw
DESCRIPTION:De verkiezingen zijn relevanter dan ooit. Als burger staan we i
 n het middelpunt van de aandacht en wordt dagelijks om onze mening gevraagd
 . Dit zal zo blijven tot 22 november. Maar daarna houdt het niet op. Nee\, 
 daarna begint het pas. Als Volt vinden we dat inwoners moeten meedenken en 
 meebeslissen over keuzes die hun leven beïnvloeden en over de manier waaro
 p hun geld wordt besteed. Dit klinkt logisch\, maar is in de afgelopen peri
 ode regelmatig fout gegaan. Wat kunnen we van deze momenten leren
LOCATION:Vadercentrum Adam\, Jonckbloetplein 24\, 2523 AR Den Haag
URL:https://voltnederland.org/agenda/volt-academy-democratie-van-de-21ste-e
 euw
END:VEVENT
END:VCALENDAR
