BEGIN:VCALENDAR
VERSION:2.0
PRODID:-//Volt Europa//Events//EN
CALSCALE:GREGORIAN
METHOD:PUBLISH
BEGIN:VEVENT
UID:vlissingen-beach-clean-up-1716721200@voltnederland.org
DTSTAMP:20260423T101945Z
DTSTART;TZID=Europe/Amsterdam:20240526T130000
DTEND;TZID=Europe/Amsterdam:20240526T160000
SUMMARY:Vlissingen - Beach clean-up
DESCRIPTION:Kom het strand schoonmaken en zichtbaar zijn! Ook delen we Volt
 -koekjes uit en maken we een praatje met strandgangers van binnen én buite
 n Nederland.
LOCATION:Badstrand Vlissingen
URL:https://voltnederland.org/agenda/vlissingen-beach-clean-up
END:VEVENT
END:VCALENDAR
