BEGIN:VCALENDAR
VERSION:2.0
PRODID:-//Volt Europa//Events//EN
CALSCALE:GREGORIAN
METHOD:PUBLISH
BEGIN:VEVENT
UID:verkiezingsrally-utrecht-doe-iets-nieuws-met-een-1-1757700000@voltneder
 land.org
DTSTAMP:20260423T115036Z
DTSTART;TZID=Europe/Amsterdam:20250912T200000
DTEND;TZID=Europe/Amsterdam:20250912T220000
SUMMARY:Verkiezingsrally Utrecht: Doe iets nieuws met een +1
DESCRIPTION:Campagnerally's té saai\, té provocerend of té Amerikaans? V
 rijdag 12 september is het tijd voor iets nieuws! Wij trappen het campagne 
 seizoen in Utrecht af met een energieke\, inspirerende avond vol muziek en 
 goede vibes. We willen laten zien dat politiek ook open\, positief én leuk
  kan zijn. Voor iedereen die bij Volt betrokken is of nieuwsgierig is wat d
 ie nieuwe politiek nou eigenlijk inhoudt. Daarom nodigen we jou uit voor ee
 n levendige avond bij Karma Kebab!  Omdat we geloven dat we NU het ve
LOCATION:Utrecht - Karma Kebab
URL:https://voltnederland.org/agenda/verkiezingsrally-utrecht-doe-iets-nieu
 ws-met-een-1
END:VEVENT
END:VCALENDAR
