BEGIN:VCALENDAR
VERSION:2.0
PRODID:-//Volt Europa//Events//EN
CALSCALE:GREGORIAN
METHOD:PUBLISH
BEGIN:VEVENT
UID:verkiezingsdebat-over-de-toekomst-van-landbouw-en-voedsel-in-europa-171
 6378300@voltnederland.org
DTSTAMP:20260423T114629Z
DTSTART;TZID=Europe/Amsterdam:20240522T134500
DTEND;TZID=Europe/Amsterdam:20240522T154500
SUMMARY:Verkiezingsdebat over de toekomst van landbouw en voedsel in Europa
DESCRIPTION:Op 22 mei zullen Europese landbouwwoordvoeders van Nederlandse 
 politieke partijen met elkaar in gesprek gaan tijdens het EU Debat: Toekoms
 t van Agri&Food. De BBB\, CDA\, ChristenUnie\, D66\, GroenLinks-PvdA\, NSC\
 , SGP\, SP\, Volt en VVD gaan in de Mauritskazerne in Ede met elkaar in ges
 prek over thema’s als uniforme duurzaamheidsstandaarden\, ketenverantwoor
 delijkheid en een regionale Europese voedselstrategie.  
LOCATION:De Mauritskazerne in Ede
URL:https://voltnederland.org/agenda/verkiezingsdebat-over-de-toekomst-van-
 landbouw-en-voedsel-in-europa
END:VEVENT
END:VCALENDAR
