BEGIN:VCALENDAR
VERSION:2.0
PRODID:-//Volt Europa//Events//EN
CALSCALE:GREGORIAN
METHOD:PUBLISH
BEGIN:VEVENT
UID:verkiezingsdebat-deventer-1717090200@voltnederland.org
DTSTAMP:20260423T102053Z
DTSTART;TZID=Europe/Amsterdam:20240530T193000
DTEND;TZID=Europe/Amsterdam:20240530T214500
SUMMARY:Verkiezingsdebat Deventer
DESCRIPTION:Op donderdag 30 mei organiseert Volt Deventer een debatavond ov
 er het Europees Parlement. Onze eigen Anouk Ooms\, kandidaat voor het Europ
 ees Parlement namens Volt en de enige kandidaat uit de gemeente Deventer\, 
 zal hierbij aanwezig zijn. Anouk gaat in debat met kandidaten van andere pa
 rtijen\, waaronder NSC en Partij voor de Dieren. Het debat vindt plaats in 
 de Bibliotheek Deventer (Stromarkt 18\, Deventer). Vanaf 19:30 is iedereen 
 welkom en het debat begint om 19:45. Het evenement zal tot ongevee
LOCATION:Bibliotheek Deventer (Stromarkt 18\, Deventer)
URL:https://voltnederland.org/agenda/verkiezingsdebat-deventer
END:VEVENT
END:VCALENDAR
