BEGIN:VCALENDAR
VERSION:2.0
PRODID:-//Volt Europa//Events//EN
CALSCALE:GREGORIAN
METHOD:PUBLISH
BEGIN:VEVENT
UID:verkiezingsavond-zeeland-1761760800@voltnederland.org
DTSTAMP:20260423T144259Z
DTSTART;TZID=Europe/Amsterdam:20251029T190000
DTEND;TZID=Europe/Amsterdam:20251029T220000
SUMMARY:Verkiezingsavond Zeeland
DESCRIPTION:De verkiezingsavond nadert\, en dat willen we graag met alle Ze
 euwen samen beleven! Op woensdag 29 oktober organiseert Volt Zeeland een lo
 kale uitslagenavond in de Stadsbrouwerij Middelburg. Tijdens deze avond vol
 gen we gezamenlijk de exitpolls en de eerste verkiezingsresultaten\, en slu
 iten we de campagne af met een gezellige borrel. Iedereen is van harte welk
 om. Samen blikken we terug op de campagneperiode en kijken we vooruit naar 
 wat er volgt. Op naar meer paars in Zeeland!
LOCATION:Stadsbrouwerij Middelburg\, Segeerstraat 43
URL:https://voltnederland.org/agenda/verkiezingsavond-zeeland
END:VEVENT
END:VCALENDAR
