BEGIN:VCALENDAR
VERSION:2.0
PRODID:-//Volt Europa//Events//EN
CALSCALE:GREGORIAN
METHOD:PUBLISH
BEGIN:VEVENT
UID:verkiezingsavond-2025-breda-1761764400@voltnederland.org
DTSTAMP:20260423T102219Z
DTSTART;TZID=Europe/Amsterdam:20251029T200000
DTEND;TZID=Europe/Amsterdam:20251029T230000
SUMMARY:Verkiezingsavond 2025 Breda
DESCRIPTION:Op woensdag 29 oktober organiseert Volt West-Brabant om 20:00 u
 ur in Publieke Werken Breda een event om samen naar de verkiezingsuitslag t
 e kijken. Om 21:00 uur krijgen alle Volt-leden een drankje! Zorg dat je erb
 ij bent!
LOCATION:Publieke Werken\, Sint Annastraat 12\, Breda
URL:https://voltnederland.org/agenda/verkiezingsavond-2025-breda
END:VEVENT
END:VCALENDAR
