BEGIN:VCALENDAR
VERSION:2.0
PRODID:-//Volt Europa//Events//EN
CALSCALE:GREGORIAN
METHOD:PUBLISH
BEGIN:VEVENT
UID:verkiezingsavond-2025-brabant-1761764400@voltnederland.org
DTSTAMP:20260423T102226Z
DTSTART;TZID=Europe/Amsterdam:20251029T200000
DTEND;TZID=Europe/Amsterdam:20251030T010000
SUMMARY:Verkiezingsavond 2025 Brabant
DESCRIPTION:Beste Volters\, Woensdag 29 oktober zijn de verkiezingen voor d
 e Tweede Kamer. De campagne komt inmiddels op stoom\, en we zouden jullie g
 raag vast willen uitnodigen voor een heuse (provinciale) uitslagenavond! Va
 naf 20:00 zullen we samenkomen bij Zoetelief in Den Bosch (Korte Putstraat 
 10) om de uitslagen te volgen. Wees van harte welkom\, hopelijk zien we jul
 lie daar!
LOCATION:Korte Putstraat 10 Den Bosch
URL:https://voltnederland.org/agenda/verkiezingsavond-2025-brabant
END:VEVENT
END:VCALENDAR
