BEGIN:VCALENDAR
VERSION:2.0
PRODID:-//Volt Europa//Events//EN
CALSCALE:GREGORIAN
METHOD:PUBLISH
BEGIN:VEVENT
UID:veluwe-noord-themabijeenkomst-diversiteit-en-inclusie-en-tkv-1753464600
 @voltnederland.org
DTSTAMP:20260423T114539Z
DTSTART;TZID=Europe/Amsterdam:20250725T193000
DTEND;TZID=Europe/Amsterdam:20250725T220000
SUMMARY:Veluwe Noord Themabijeenkomst Diversiteit en Inclusie\, én TKv!
DESCRIPTION:Beste Volters Veluwe Noord en omgeving\, Van harte welkom op on
 ze themabijeenkomst Diversiteit en Inclusie! Steeds vaker zien we in de sam
 enleving weerstand en discriminatie richting mensen die anders zijn. Vanuit
  de VS komen maatregelen overgewaaid\, maar het speelt ook bij ons. Hoe ga 
 je daarmee om en wat kun jij doen? Wij vinden dat iedereen gelijk is en ook
  zo behandeld moet worden en daarom gaan wij hierover in gesprek tijdens de
 ze avond. We doen dat met inbreng en onder leiding van Tom van D
LOCATION:Buurthuis Maasstraat\, Maasstraat 4\, Apeldoorn
URL:https://voltnederland.org/agenda/veluwe-noord-themabijeenkomst-diversit
 eit-en-inclusie-en-tkv
END:VEVENT
END:VCALENDAR
