BEGIN:VCALENDAR
VERSION:2.0
PRODID:-//Volt Europa//Events//EN
CALSCALE:GREGORIAN
METHOD:PUBLISH
BEGIN:VEVENT
UID:veluwe-noord-meet-up-1751045400@voltnederland.org
DTSTAMP:20260423T102046Z
DTSTART;TZID=Europe/Amsterdam:20250627T193000
DTEND;TZID=Europe/Amsterdam:20250627T220000
SUMMARY:Veluwe Noord Meet-up
DESCRIPTION:Leden en niet-leden van Volt Veluwe Noord en omgeving\, van har
 te welkom bij onze maandelijkse meet-up\, deze keer weer in Harderwijk!  On
 tmoet elkaar en kernteamleden en wie weet komt onze partijdirecteur ook nog
  even langs. Met twee verkiezingen in het vooruitzicht is er stof genoeg om
  het met elkaar te hebben over hoe we onze omgeving\, land en Europa willen
  inrichten.  Aanmelden mag wel\, maar hoeft niet. Drankjes zijn voor eigen 
 rekening.
LOCATION:MFC De Kiekmure\, Tesselschadelaan 1\, Harderwijk
URL:https://voltnederland.org/agenda/veluwe-noord-meet-up
END:VEVENT
END:VCALENDAR
