BEGIN:VCALENDAR
VERSION:2.0
PRODID:-//Volt Europa//Events//EN
CALSCALE:GREGORIAN
METHOD:PUBLISH
BEGIN:VEVENT
UID:utrecht-volt-utrecht-afdelingscongres-1718731800@voltnederland.org
DTSTAMP:20260423T102219Z
DTSTART;TZID=Europe/Amsterdam:20240618T193000
DTEND;TZID=Europe/Amsterdam:20240618T230000
SUMMARY:Utrecht - Volt Utrecht Afdelingscongres
DESCRIPTION:Volt heeft 5 zetels in het Europees parlement gehaald. In de pr
 ovincie Utrecht stemde 7% van alle stemgerechtigde op Volt. Daarmee zijn we
  nog steeds aan het groeien als beweging. In dit congres blikt Volt afdelin
 g Utrecht terug op 2023 en verantwoord het bestuur waar zij mee bezig zijn 
 geweest. Daarnaast zal er een panelgesprek zijn over hoe het is om actief b
 innen Volt te zijn en zal Marieke Koekoek vertellen waar zij mee bezig is o
 p het gebied van Asiel en immigratie. Vanaf 19:30 verwelkomen 
LOCATION:Huis van Houten
URL:https://voltnederland.org/agenda/utrecht-volt-utrecht-afdelingscongres
END:VEVENT
END:VCALENDAR
